BEGIN:VCALENDAR
VERSION:2.0
PRODID:-//OneGov//onegov.event//
BEGIN:VEVENT
SUMMARY:Lesehund 
DTSTART:20260115T143000Z
DTEND:20260115T163000Z
DTSTAMP:20260422T130628Z
UID:lesehund-2026-01-15@onegov.event
CATEGORIES:Bibliothek
DESCRIPTION:Kinder ab der 2. Klasse dürfen unserem Lesehund "Xanto" einma
 l im Monat \nfür ca. 10-15 Minuten vorlesen. \n\nDonnerstag von 15.30 Uhr
  - 17.30 Uhr \nEs gibt für jedes Kind ein Zeitfenster\, deshalb ist eine 
 Anmeldung erforderlich. \n\nXanto\, seine Besitzer und das Team der Stadtb
 ibliothek Wil\, freuen sich auf Euren Besuch. 
LAST-MODIFIED:20260422T130628Z
LOCATION:Stadtbibliothek Wil 
URL:https://www.stadtwil.ch/event/lesehund-2026-01-15
END:VEVENT
BEGIN:VEVENT
SUMMARY:Lesehund 
DTSTART:20260219T143000Z
DTEND:20260219T163000Z
DTSTAMP:20260422T130628Z
UID:lesehund-2026-02-19@onegov.event
CATEGORIES:Bibliothek
DESCRIPTION:Kinder ab der 2. Klasse dürfen unserem Lesehund "Xanto" einma
 l im Monat \nfür ca. 10-15 Minuten vorlesen. \n\nDonnerstag von 15.30 Uhr
  - 17.30 Uhr \nEs gibt für jedes Kind ein Zeitfenster\, deshalb ist eine 
 Anmeldung erforderlich. \n\nXanto\, seine Besitzer und das Team der Stadtb
 ibliothek Wil\, freuen sich auf Euren Besuch. 
LAST-MODIFIED:20260422T130628Z
LOCATION:Stadtbibliothek Wil 
URL:https://www.stadtwil.ch/event/lesehund-2026-01-15
END:VEVENT
BEGIN:VEVENT
SUMMARY:Lesehund 
DTSTART:20260319T143000Z
DTEND:20260319T163000Z
DTSTAMP:20260422T130628Z
UID:lesehund-2026-03-19@onegov.event
CATEGORIES:Bibliothek
DESCRIPTION:Kinder ab der 2. Klasse dürfen unserem Lesehund "Xanto" einma
 l im Monat \nfür ca. 10-15 Minuten vorlesen. \n\nDonnerstag von 15.30 Uhr
  - 17.30 Uhr \nEs gibt für jedes Kind ein Zeitfenster\, deshalb ist eine 
 Anmeldung erforderlich. \n\nXanto\, seine Besitzer und das Team der Stadtb
 ibliothek Wil\, freuen sich auf Euren Besuch. 
LAST-MODIFIED:20260422T130628Z
LOCATION:Stadtbibliothek Wil 
URL:https://www.stadtwil.ch/event/lesehund-2026-01-15
END:VEVENT
BEGIN:VEVENT
SUMMARY:Lesehund 
DTSTART:20260423T133000Z
DTEND:20260423T153000Z
DTSTAMP:20260422T130628Z
UID:lesehund-2026-04-23@onegov.event
CATEGORIES:Bibliothek
DESCRIPTION:Kinder ab der 2. Klasse dürfen unserem Lesehund "Xanto" einma
 l im Monat \nfür ca. 10-15 Minuten vorlesen. \n\nDonnerstag von 15.30 Uhr
  - 17.30 Uhr \nEs gibt für jedes Kind ein Zeitfenster\, deshalb ist eine 
 Anmeldung erforderlich. \n\nXanto\, seine Besitzer und das Team der Stadtb
 ibliothek Wil\, freuen sich auf Euren Besuch. 
LAST-MODIFIED:20260422T130628Z
LOCATION:Stadtbibliothek Wil 
URL:https://www.stadtwil.ch/event/lesehund-2026-01-15
END:VEVENT
BEGIN:VEVENT
SUMMARY:Lesehund 
DTSTART:20260521T133000Z
DTEND:20260521T153000Z
DTSTAMP:20260422T130628Z
UID:lesehund-2026-05-21@onegov.event
CATEGORIES:Bibliothek
DESCRIPTION:Kinder ab der 2. Klasse dürfen unserem Lesehund "Xanto" einma
 l im Monat \nfür ca. 10-15 Minuten vorlesen. \n\nDonnerstag von 15.30 Uhr
  - 17.30 Uhr \nEs gibt für jedes Kind ein Zeitfenster\, deshalb ist eine 
 Anmeldung erforderlich. \n\nXanto\, seine Besitzer und das Team der Stadtb
 ibliothek Wil\, freuen sich auf Euren Besuch. 
LAST-MODIFIED:20260422T130628Z
LOCATION:Stadtbibliothek Wil 
URL:https://www.stadtwil.ch/event/lesehund-2026-01-15
END:VEVENT
BEGIN:VEVENT
SUMMARY:Lesehund 
DTSTART:20260618T133000Z
DTEND:20260618T153000Z
DTSTAMP:20260422T130628Z
UID:lesehund-2026-06-18@onegov.event
CATEGORIES:Bibliothek
DESCRIPTION:Kinder ab der 2. Klasse dürfen unserem Lesehund "Xanto" einma
 l im Monat \nfür ca. 10-15 Minuten vorlesen. \n\nDonnerstag von 15.30 Uhr
  - 17.30 Uhr \nEs gibt für jedes Kind ein Zeitfenster\, deshalb ist eine 
 Anmeldung erforderlich. \n\nXanto\, seine Besitzer und das Team der Stadtb
 ibliothek Wil\, freuen sich auf Euren Besuch. 
LAST-MODIFIED:20260422T130628Z
LOCATION:Stadtbibliothek Wil 
URL:https://www.stadtwil.ch/event/lesehund-2026-01-15
END:VEVENT
BEGIN:VEVENT
SUMMARY:Lesehund 
DTSTART:20260917T133000Z
DTEND:20260917T153000Z
DTSTAMP:20260422T130628Z
UID:lesehund-2026-09-17@onegov.event
CATEGORIES:Bibliothek
DESCRIPTION:Kinder ab der 2. Klasse dürfen unserem Lesehund "Xanto" einma
 l im Monat \nfür ca. 10-15 Minuten vorlesen. \n\nDonnerstag von 15.30 Uhr
  - 17.30 Uhr \nEs gibt für jedes Kind ein Zeitfenster\, deshalb ist eine 
 Anmeldung erforderlich. \n\nXanto\, seine Besitzer und das Team der Stadtb
 ibliothek Wil\, freuen sich auf Euren Besuch. 
LAST-MODIFIED:20260422T130628Z
LOCATION:Stadtbibliothek Wil 
URL:https://www.stadtwil.ch/event/lesehund-2026-01-15
END:VEVENT
BEGIN:VEVENT
SUMMARY:Lesehund 
DTSTART:20261022T133000Z
DTEND:20261022T153000Z
DTSTAMP:20260422T130628Z
UID:lesehund-2026-10-22@onegov.event
CATEGORIES:Bibliothek
DESCRIPTION:Kinder ab der 2. Klasse dürfen unserem Lesehund "Xanto" einma
 l im Monat \nfür ca. 10-15 Minuten vorlesen. \n\nDonnerstag von 15.30 Uhr
  - 17.30 Uhr \nEs gibt für jedes Kind ein Zeitfenster\, deshalb ist eine 
 Anmeldung erforderlich. \n\nXanto\, seine Besitzer und das Team der Stadtb
 ibliothek Wil\, freuen sich auf Euren Besuch. 
LAST-MODIFIED:20260422T130628Z
LOCATION:Stadtbibliothek Wil 
URL:https://www.stadtwil.ch/event/lesehund-2026-01-15
END:VEVENT
BEGIN:VEVENT
SUMMARY:Lesehund 
DTSTART:20261119T143000Z
DTEND:20261119T163000Z
DTSTAMP:20260422T130628Z
UID:lesehund-2026-11-19@onegov.event
CATEGORIES:Bibliothek
DESCRIPTION:Kinder ab der 2. Klasse dürfen unserem Lesehund "Xanto" einma
 l im Monat \nfür ca. 10-15 Minuten vorlesen. \n\nDonnerstag von 15.30 Uhr
  - 17.30 Uhr \nEs gibt für jedes Kind ein Zeitfenster\, deshalb ist eine 
 Anmeldung erforderlich. \n\nXanto\, seine Besitzer und das Team der Stadtb
 ibliothek Wil\, freuen sich auf Euren Besuch. 
LAST-MODIFIED:20260422T130628Z
LOCATION:Stadtbibliothek Wil 
URL:https://www.stadtwil.ch/event/lesehund-2026-01-15
END:VEVENT
BEGIN:VEVENT
SUMMARY:Lesehund 
DTSTART:20261210T143000Z
DTEND:20261210T163000Z
DTSTAMP:20260422T130628Z
UID:lesehund-2026-12-10@onegov.event
CATEGORIES:Bibliothek
DESCRIPTION:Kinder ab der 2. Klasse dürfen unserem Lesehund "Xanto" einma
 l im Monat \nfür ca. 10-15 Minuten vorlesen. \n\nDonnerstag von 15.30 Uhr
  - 17.30 Uhr \nEs gibt für jedes Kind ein Zeitfenster\, deshalb ist eine 
 Anmeldung erforderlich. \n\nXanto\, seine Besitzer und das Team der Stadtb
 ibliothek Wil\, freuen sich auf Euren Besuch. 
LAST-MODIFIED:20260422T130628Z
LOCATION:Stadtbibliothek Wil 
URL:https://www.stadtwil.ch/event/lesehund-2026-01-15
END:VEVENT
END:VCALENDAR
