BEGIN:VCALENDAR
VERSION:2.0
PRODID:-//OneGov//onegov.event//
BEGIN:VEVENT
SUMMARY:Schenk mir eine Geschichte - Spanisch 
DTSTART:20260116T153000Z
DTEND:20260116T163000Z
DTSTAMP:20260424T130627Z
UID:schenk-mir-eine-geschichte-spanisch-2026-01-16@onegov.event
CATEGORIES:Bibliothek
DESCRIPTION:Kindergeschichten auf Spanisch. \n\nClaudia y Mónica los invi
 tan a conocer su rincón de cuentos y canciones en español.\nLos viernes 
 a las 16.30 horas. \nPara niños de 2 a 6 años acompañados por un adulto
 . \n\nClaudia\, Mónica und das Team der Stadtbibliothek Wil freuen sich a
 uf Euren Besuch. \n\n
LAST-MODIFIED:20260424T130627Z
LOCATION:Stadtbibliothek Wil 
URL:https://www.stadtwil.ch/event/schenk-mir-eine-geschichte-spanisch-2026
 -01-16
END:VEVENT
BEGIN:VEVENT
SUMMARY:Schenk mir eine Geschichte - Spanisch 
DTSTART:20260306T153000Z
DTEND:20260306T163000Z
DTSTAMP:20260424T130627Z
UID:schenk-mir-eine-geschichte-spanisch-2026-03-06@onegov.event
CATEGORIES:Bibliothek
DESCRIPTION:Kindergeschichten auf Spanisch. \n\nClaudia y Mónica los invi
 tan a conocer su rincón de cuentos y canciones en español.\nLos viernes 
 a las 16.30 horas. \nPara niños de 2 a 6 años acompañados por un adulto
 . \n\nClaudia\, Mónica und das Team der Stadtbibliothek Wil freuen sich a
 uf Euren Besuch. \n\n
LAST-MODIFIED:20260424T130627Z
LOCATION:Stadtbibliothek Wil 
URL:https://www.stadtwil.ch/event/schenk-mir-eine-geschichte-spanisch-2026
 -01-16
END:VEVENT
BEGIN:VEVENT
SUMMARY:Schenk mir eine Geschichte - Spanisch 
DTSTART:20260424T143000Z
DTEND:20260424T153000Z
DTSTAMP:20260424T130627Z
UID:schenk-mir-eine-geschichte-spanisch-2026-04-24@onegov.event
CATEGORIES:Bibliothek
DESCRIPTION:Kindergeschichten auf Spanisch. \n\nClaudia y Mónica los invi
 tan a conocer su rincón de cuentos y canciones en español.\nLos viernes 
 a las 16.30 horas. \nPara niños de 2 a 6 años acompañados por un adulto
 . \n\nClaudia\, Mónica und das Team der Stadtbibliothek Wil freuen sich a
 uf Euren Besuch. \n\n
LAST-MODIFIED:20260424T130627Z
LOCATION:Stadtbibliothek Wil 
URL:https://www.stadtwil.ch/event/schenk-mir-eine-geschichte-spanisch-2026
 -01-16
END:VEVENT
BEGIN:VEVENT
SUMMARY:Schenk mir eine Geschichte - Spanisch 
DTSTART:20260626T143000Z
DTEND:20260626T153000Z
DTSTAMP:20260424T130627Z
UID:schenk-mir-eine-geschichte-spanisch-2026-06-26@onegov.event
CATEGORIES:Bibliothek
DESCRIPTION:Kindergeschichten auf Spanisch. \n\nClaudia y Mónica los invi
 tan a conocer su rincón de cuentos y canciones en español.\nLos viernes 
 a las 16.30 horas. \nPara niños de 2 a 6 años acompañados por un adulto
 . \n\nClaudia\, Mónica und das Team der Stadtbibliothek Wil freuen sich a
 uf Euren Besuch. \n\n
LAST-MODIFIED:20260424T130627Z
LOCATION:Stadtbibliothek Wil 
URL:https://www.stadtwil.ch/event/schenk-mir-eine-geschichte-spanisch-2026
 -01-16
END:VEVENT
BEGIN:VEVENT
SUMMARY:Schenk mir eine Geschichte - Spanisch 
DTSTART:20260814T143000Z
DTEND:20260814T153000Z
DTSTAMP:20260424T130627Z
UID:schenk-mir-eine-geschichte-spanisch-2026-08-14@onegov.event
CATEGORIES:Bibliothek
DESCRIPTION:Kindergeschichten auf Spanisch. \n\nClaudia y Mónica los invi
 tan a conocer su rincón de cuentos y canciones en español.\nLos viernes 
 a las 16.30 horas. \nPara niños de 2 a 6 años acompañados por un adulto
 . \n\nClaudia\, Mónica und das Team der Stadtbibliothek Wil freuen sich a
 uf Euren Besuch. \n\n
LAST-MODIFIED:20260424T130627Z
LOCATION:Stadtbibliothek Wil 
URL:https://www.stadtwil.ch/event/schenk-mir-eine-geschichte-spanisch-2026
 -01-16
END:VEVENT
BEGIN:VEVENT
SUMMARY:Schenk mir eine Geschichte - Spanisch 
DTSTART:20260918T143000Z
DTEND:20260918T153000Z
DTSTAMP:20260424T130627Z
UID:schenk-mir-eine-geschichte-spanisch-2026-09-18@onegov.event
CATEGORIES:Bibliothek
DESCRIPTION:Kindergeschichten auf Spanisch. \n\nClaudia y Mónica los invi
 tan a conocer su rincón de cuentos y canciones en español.\nLos viernes 
 a las 16.30 horas. \nPara niños de 2 a 6 años acompañados por un adulto
 . \n\nClaudia\, Mónica und das Team der Stadtbibliothek Wil freuen sich a
 uf Euren Besuch. \n\n
LAST-MODIFIED:20260424T130627Z
LOCATION:Stadtbibliothek Wil 
URL:https://www.stadtwil.ch/event/schenk-mir-eine-geschichte-spanisch-2026
 -01-16
END:VEVENT
BEGIN:VEVENT
SUMMARY:Schenk mir eine Geschichte - Spanisch 
DTSTART:20261023T143000Z
DTEND:20261023T153000Z
DTSTAMP:20260424T130627Z
UID:schenk-mir-eine-geschichte-spanisch-2026-10-23@onegov.event
CATEGORIES:Bibliothek
DESCRIPTION:Kindergeschichten auf Spanisch. \n\nClaudia y Mónica los invi
 tan a conocer su rincón de cuentos y canciones en español.\nLos viernes 
 a las 16.30 horas. \nPara niños de 2 a 6 años acompañados por un adulto
 . \n\nClaudia\, Mónica und das Team der Stadtbibliothek Wil freuen sich a
 uf Euren Besuch. \n\n
LAST-MODIFIED:20260424T130627Z
LOCATION:Stadtbibliothek Wil 
URL:https://www.stadtwil.ch/event/schenk-mir-eine-geschichte-spanisch-2026
 -01-16
END:VEVENT
BEGIN:VEVENT
SUMMARY:Schenk mir eine Geschichte - Spanisch 
DTSTART:20261204T153000Z
DTEND:20261204T163000Z
DTSTAMP:20260424T130627Z
UID:schenk-mir-eine-geschichte-spanisch-2026-12-04@onegov.event
CATEGORIES:Bibliothek
DESCRIPTION:Kindergeschichten auf Spanisch. \n\nClaudia y Mónica los invi
 tan a conocer su rincón de cuentos y canciones en español.\nLos viernes 
 a las 16.30 horas. \nPara niños de 2 a 6 años acompañados por un adulto
 . \n\nClaudia\, Mónica und das Team der Stadtbibliothek Wil freuen sich a
 uf Euren Besuch. \n\n
LAST-MODIFIED:20260424T130627Z
LOCATION:Stadtbibliothek Wil 
URL:https://www.stadtwil.ch/event/schenk-mir-eine-geschichte-spanisch-2026
 -01-16
END:VEVENT
END:VCALENDAR
