BEGIN:VCALENDAR
VERSION:2.0
PRODID:-//OneGov//onegov.event//
BEGIN:VEVENT
SUMMARY:Tablet Hero 
DTSTART:20260207T090000Z
DTEND:20260207T100000Z
DTSTAMP:20260425T110628Z
UID:tablet-hero-2026-02-07@onegov.event
CATEGORIES:Bibliothek
DESCRIPTION:Ein Tablet Hero - ein Held am Tablet - kennt kein Alter. \nIn 
 diesem Generationen Projekt zeigen Jugendliche den Seniorinnen und Seniore
 n das Tablet/Smartphone und helfen auch bei E-Reader bzw. E-Books Probleme
 n. Nutzen Sie das Angebot der Stadtbibliothek Wil und werden auch Sie ein 
 Held am Tablet. \n\nSamstag von 10.00 - 11.00 Uhr \nEine Anmeldung ist erf
 orderlich \nEintritt frei. Kollekte für die Jugendlichen \n\nEine Zusamme
 narbeit mit dem Jugendparlament Wil 
LAST-MODIFIED:20260425T110628Z
LOCATION:Stadtbibliothek Wil 
URL:https://www.stadtwil.ch/event/tablet-hero-2026-02-07
END:VEVENT
BEGIN:VEVENT
SUMMARY:Tablet Hero 
DTSTART:20260314T090000Z
DTEND:20260314T100000Z
DTSTAMP:20260425T110628Z
UID:tablet-hero-2026-03-14@onegov.event
CATEGORIES:Bibliothek
DESCRIPTION:Ein Tablet Hero - ein Held am Tablet - kennt kein Alter. \nIn 
 diesem Generationen Projekt zeigen Jugendliche den Seniorinnen und Seniore
 n das Tablet/Smartphone und helfen auch bei E-Reader bzw. E-Books Probleme
 n. Nutzen Sie das Angebot der Stadtbibliothek Wil und werden auch Sie ein 
 Held am Tablet. \n\nSamstag von 10.00 - 11.00 Uhr \nEine Anmeldung ist erf
 orderlich \nEintritt frei. Kollekte für die Jugendlichen \n\nEine Zusamme
 narbeit mit dem Jugendparlament Wil 
LAST-MODIFIED:20260425T110628Z
LOCATION:Stadtbibliothek Wil 
URL:https://www.stadtwil.ch/event/tablet-hero-2026-02-07
END:VEVENT
BEGIN:VEVENT
SUMMARY:Tablet Hero 
DTSTART:20260425T080000Z
DTEND:20260425T090000Z
DTSTAMP:20260425T110628Z
UID:tablet-hero-2026-04-25@onegov.event
CATEGORIES:Bibliothek
DESCRIPTION:Ein Tablet Hero - ein Held am Tablet - kennt kein Alter. \nIn 
 diesem Generationen Projekt zeigen Jugendliche den Seniorinnen und Seniore
 n das Tablet/Smartphone und helfen auch bei E-Reader bzw. E-Books Probleme
 n. Nutzen Sie das Angebot der Stadtbibliothek Wil und werden auch Sie ein 
 Held am Tablet. \n\nSamstag von 10.00 - 11.00 Uhr \nEine Anmeldung ist erf
 orderlich \nEintritt frei. Kollekte für die Jugendlichen \n\nEine Zusamme
 narbeit mit dem Jugendparlament Wil 
LAST-MODIFIED:20260425T110628Z
LOCATION:Stadtbibliothek Wil 
URL:https://www.stadtwil.ch/event/tablet-hero-2026-02-07
END:VEVENT
BEGIN:VEVENT
SUMMARY:Tablet Hero 
DTSTART:20260523T080000Z
DTEND:20260523T090000Z
DTSTAMP:20260425T110628Z
UID:tablet-hero-2026-05-23@onegov.event
CATEGORIES:Bibliothek
DESCRIPTION:Ein Tablet Hero - ein Held am Tablet - kennt kein Alter. \nIn 
 diesem Generationen Projekt zeigen Jugendliche den Seniorinnen und Seniore
 n das Tablet/Smartphone und helfen auch bei E-Reader bzw. E-Books Probleme
 n. Nutzen Sie das Angebot der Stadtbibliothek Wil und werden auch Sie ein 
 Held am Tablet. \n\nSamstag von 10.00 - 11.00 Uhr \nEine Anmeldung ist erf
 orderlich \nEintritt frei. Kollekte für die Jugendlichen \n\nEine Zusamme
 narbeit mit dem Jugendparlament Wil 
LAST-MODIFIED:20260425T110628Z
LOCATION:Stadtbibliothek Wil 
URL:https://www.stadtwil.ch/event/tablet-hero-2026-02-07
END:VEVENT
BEGIN:VEVENT
SUMMARY:Tablet Hero 
DTSTART:20260620T080000Z
DTEND:20260620T090000Z
DTSTAMP:20260425T110628Z
UID:tablet-hero-2026-06-20@onegov.event
CATEGORIES:Bibliothek
DESCRIPTION:Ein Tablet Hero - ein Held am Tablet - kennt kein Alter. \nIn 
 diesem Generationen Projekt zeigen Jugendliche den Seniorinnen und Seniore
 n das Tablet/Smartphone und helfen auch bei E-Reader bzw. E-Books Probleme
 n. Nutzen Sie das Angebot der Stadtbibliothek Wil und werden auch Sie ein 
 Held am Tablet. \n\nSamstag von 10.00 - 11.00 Uhr \nEine Anmeldung ist erf
 orderlich \nEintritt frei. Kollekte für die Jugendlichen \n\nEine Zusamme
 narbeit mit dem Jugendparlament Wil 
LAST-MODIFIED:20260425T110628Z
LOCATION:Stadtbibliothek Wil 
URL:https://www.stadtwil.ch/event/tablet-hero-2026-02-07
END:VEVENT
BEGIN:VEVENT
SUMMARY:Tablet Hero 
DTSTART:20260815T080000Z
DTEND:20260815T090000Z
DTSTAMP:20260425T110628Z
UID:tablet-hero-2026-08-15@onegov.event
CATEGORIES:Bibliothek
DESCRIPTION:Ein Tablet Hero - ein Held am Tablet - kennt kein Alter. \nIn 
 diesem Generationen Projekt zeigen Jugendliche den Seniorinnen und Seniore
 n das Tablet/Smartphone und helfen auch bei E-Reader bzw. E-Books Probleme
 n. Nutzen Sie das Angebot der Stadtbibliothek Wil und werden auch Sie ein 
 Held am Tablet. \n\nSamstag von 10.00 - 11.00 Uhr \nEine Anmeldung ist erf
 orderlich \nEintritt frei. Kollekte für die Jugendlichen \n\nEine Zusamme
 narbeit mit dem Jugendparlament Wil 
LAST-MODIFIED:20260425T110628Z
LOCATION:Stadtbibliothek Wil 
URL:https://www.stadtwil.ch/event/tablet-hero-2026-02-07
END:VEVENT
BEGIN:VEVENT
SUMMARY:Tablet Hero 
DTSTART:20260912T080000Z
DTEND:20260912T090000Z
DTSTAMP:20260425T110628Z
UID:tablet-hero-2026-09-12@onegov.event
CATEGORIES:Bibliothek
DESCRIPTION:Ein Tablet Hero - ein Held am Tablet - kennt kein Alter. \nIn 
 diesem Generationen Projekt zeigen Jugendliche den Seniorinnen und Seniore
 n das Tablet/Smartphone und helfen auch bei E-Reader bzw. E-Books Probleme
 n. Nutzen Sie das Angebot der Stadtbibliothek Wil und werden auch Sie ein 
 Held am Tablet. \n\nSamstag von 10.00 - 11.00 Uhr \nEine Anmeldung ist erf
 orderlich \nEintritt frei. Kollekte für die Jugendlichen \n\nEine Zusamme
 narbeit mit dem Jugendparlament Wil 
LAST-MODIFIED:20260425T110628Z
LOCATION:Stadtbibliothek Wil 
URL:https://www.stadtwil.ch/event/tablet-hero-2026-02-07
END:VEVENT
BEGIN:VEVENT
SUMMARY:Tablet Hero 
DTSTART:20261024T080000Z
DTEND:20261024T090000Z
DTSTAMP:20260425T110628Z
UID:tablet-hero-2026-10-24@onegov.event
CATEGORIES:Bibliothek
DESCRIPTION:Ein Tablet Hero - ein Held am Tablet - kennt kein Alter. \nIn 
 diesem Generationen Projekt zeigen Jugendliche den Seniorinnen und Seniore
 n das Tablet/Smartphone und helfen auch bei E-Reader bzw. E-Books Probleme
 n. Nutzen Sie das Angebot der Stadtbibliothek Wil und werden auch Sie ein 
 Held am Tablet. \n\nSamstag von 10.00 - 11.00 Uhr \nEine Anmeldung ist erf
 orderlich \nEintritt frei. Kollekte für die Jugendlichen \n\nEine Zusamme
 narbeit mit dem Jugendparlament Wil 
LAST-MODIFIED:20260425T110628Z
LOCATION:Stadtbibliothek Wil 
URL:https://www.stadtwil.ch/event/tablet-hero-2026-02-07
END:VEVENT
BEGIN:VEVENT
SUMMARY:Tablet Hero 
DTSTART:20261121T090000Z
DTEND:20261121T100000Z
DTSTAMP:20260425T110628Z
UID:tablet-hero-2026-11-21@onegov.event
CATEGORIES:Bibliothek
DESCRIPTION:Ein Tablet Hero - ein Held am Tablet - kennt kein Alter. \nIn 
 diesem Generationen Projekt zeigen Jugendliche den Seniorinnen und Seniore
 n das Tablet/Smartphone und helfen auch bei E-Reader bzw. E-Books Probleme
 n. Nutzen Sie das Angebot der Stadtbibliothek Wil und werden auch Sie ein 
 Held am Tablet. \n\nSamstag von 10.00 - 11.00 Uhr \nEine Anmeldung ist erf
 orderlich \nEintritt frei. Kollekte für die Jugendlichen \n\nEine Zusamme
 narbeit mit dem Jugendparlament Wil 
LAST-MODIFIED:20260425T110628Z
LOCATION:Stadtbibliothek Wil 
URL:https://www.stadtwil.ch/event/tablet-hero-2026-02-07
END:VEVENT
BEGIN:VEVENT
SUMMARY:Tablet Hero 
DTSTART:20261212T090000Z
DTEND:20261212T100000Z
DTSTAMP:20260425T110628Z
UID:tablet-hero-2026-12-12@onegov.event
CATEGORIES:Bibliothek
DESCRIPTION:Ein Tablet Hero - ein Held am Tablet - kennt kein Alter. \nIn 
 diesem Generationen Projekt zeigen Jugendliche den Seniorinnen und Seniore
 n das Tablet/Smartphone und helfen auch bei E-Reader bzw. E-Books Probleme
 n. Nutzen Sie das Angebot der Stadtbibliothek Wil und werden auch Sie ein 
 Held am Tablet. \n\nSamstag von 10.00 - 11.00 Uhr \nEine Anmeldung ist erf
 orderlich \nEintritt frei. Kollekte für die Jugendlichen \n\nEine Zusamme
 narbeit mit dem Jugendparlament Wil 
LAST-MODIFIED:20260425T110628Z
LOCATION:Stadtbibliothek Wil 
URL:https://www.stadtwil.ch/event/tablet-hero-2026-02-07
END:VEVENT
END:VCALENDAR
