BEGIN:VCALENDAR
VERSION:2.0
PRODID:-//OneGov//onegov.event//
BEGIN:VEVENT
SUMMARY:Filmvorführung "Macht und Ohnmacht"
DTSTART:20260421T170000Z
DTEND:20260421T183000Z
DTSTAMP:20260407T115447Z
UID:filmvorfuehrung-macht-und-ohnmacht-2026-04-21@onegov.event
CATEGORIES:Film,Kino,Politik
DESCRIPTION:Kostenlose Vorführung des Films "Macht und Ohnmacht - Wenn Sc
 hweizer Konzerne Leben zerstören" mit anschliessender kurzer Präsentatio
 n zur Konzernverantwortungsinitiative und Apéro.\n\nAnmeldung:\nhttps://k
 onzernverantwortung.ch/macht-und-ohnmacht
GEO:47.45881957159088;9.051826520189225
LAST-MODIFIED:20260407T115447Z
LOCATION:Lindenhof Aula / Lindenhofstrasse 23
URL:https://www.stadtwil.ch/event/filmvorfuehrung-macht-und-ohnmacht-2026-
 04-21
END:VEVENT
END:VCALENDAR
