BEGIN:VCALENDAR
VERSION:2.0
PRODID:-//OneGov//onegov.event//
BEGIN:VEVENT
SUMMARY:Schenk mir eine Geschichte - Spanisch 
DTSTART:20260424T143000Z
DTEND:20260424T153000Z
DTSTAMP:20260105T125208Z
UID:schenk-mir-eine-geschichte-spanisch-2026-04-24@onegov.event
CATEGORIES:Bibliothek
DESCRIPTION:Kindergeschichten auf Spanisch. \n\nClaudia y Mónica los invi
 tan a conocer su rincón de cuentos y canciones en español.\nLos viernes 
 a las 16.30 horas. \nPara niños de 2 a 6 años acompañados por un adulto
 . \n\nClaudia\, Mónica und das Team der Stadtbibliothek Wil freuen sich a
 uf Euren Besuch. \n\n
LAST-MODIFIED:20260105T125208Z
LOCATION:Stadtbibliothek Wil 
URL:https://www.stadtwil.ch/event/schenk-mir-eine-geschichte-spanisch-2026
 -04-24
END:VEVENT
END:VCALENDAR
