BEGIN:VCALENDAR
VERSION:2.0
PRODID:-//OneGov//onegov.event//
BEGIN:VEVENT
SUMMARY:Seminarreihe: Künstliche Intelligenz (KI) für alle
DTSTART:20251020T153000Z
DTEND:20251020T173000Z
DTSTAMP:20250918T042754Z
UID:seminarreihe-kuenstliche-intelligenz-ki-fuer-alle-1-2025-10-20@onegov.
 event
CATEGORIES:Bildung,Vortrag,Verschiedenes
DESCRIPTION:Die OST bietet öffentliche Seminare an\, um Wissen über KI z
 u verbreiten\, Ängste abzubauen und eine inklusive Zukunft zu gestalten.\
 n\nDie OST – Ostschweizer Fachhochschule organisiert eine Reihe von Aben
 dseminaren über Künstliche Intelligenz (KI) und Data Science\, die für 
 die Öffentlichkeit offen sind. Diese Seminare «Künstliche Intelligenz (
 KI) für alle» erfordern keine Vorkenntnisse in Mathematik oder Programmi
 erung und zielen darauf ab\, das Verständnis dieser Technologien zu verbe
 ssern. Durch interaktive Lernansätze und ein offenes Lernumfeld fördern 
 sie das kritische Denken und erleichtern das Verständnis des digitalen Wa
 ndels.\n\nSeminar 1: Künstliche Intelligenz: Was ist das eigentlich?\nSem
 inar 2: Bildgenerierung mit KI: von der Idee zum Bild\nSeminar 3: Künstli
 che Intelligenz und Recht: Rahmenbedingungen und Herausforderungen\nSemina
 r 4: Vibe coding: Kann ich ohne Programmier-Kenntnisse Apps schreiben?\nSe
 minar 5: Biped Humanoid Robots: Maschinen auf zwei Beinen\nSeminar 6: chat
 GPT im Alltag: effiziente Nutzung und praktische Tipps\nSeminar 7: Künstl
 iche Intelligenz und Ethik: Herausforderungen und verantwortungsvoller Umg
 ang\nSeminar 8: KI und Chancengerechtigkeit: ist künstliche Intelligenz f
 air?\nSeminar 9: KI und Kreativität: Booster oder Killer?\nSeminar 10: KI
  in der Bildung: neue Wege des Lehrens und Lernens\n\nDie Seminarreihe wir
 d von der IT-Bildungsoffensive des Kantons St.Gallen (ITBO) gefördert.\n\
 nKostenlos\n\n
GEO:47.458489;9.042294
LAST-MODIFIED:20250918T042754Z
LOCATION:Primarschule Matt - Aula\, Glärnischstrasse 26\, 9500 Wil SG
URL:https://www.stadtwil.ch/event/seminarreihe-kuenstliche-intelligenz-ki-
 fuer-alle-1-2025-10-20
END:VEVENT
END:VCALENDAR
