BEGIN:VCALENDAR
VERSION:2.0
PRODID:-//OneGov//onegov.event//
BEGIN:VEVENT
SUMMARY:Tablet Hero 
DTSTART:20260425T080000Z
DTEND:20260425T090000Z
DTSTAMP:20260105T125318Z
UID:tablet-hero-2026-04-25@onegov.event
CATEGORIES:Bibliothek
DESCRIPTION:Ein Tablet Hero - ein Held am Tablet - kennt kein Alter. \nIn 
 diesem Generationen Projekt zeigen Jugendliche den Seniorinnen und Seniore
 n das Tablet/Smartphone und helfen auch bei E-Reader bzw. E-Books Probleme
 n. Nutzen Sie das Angebot der Stadtbibliothek Wil und werden auch Sie ein 
 Held am Tablet. \n\nSamstag von 10.00 - 11.00 Uhr \nEine Anmeldung ist erf
 orderlich \nEintritt frei. Kollekte für die Jugendlichen \n\nEine Zusamme
 narbeit mit dem Jugendparlament Wil 
LAST-MODIFIED:20260105T125318Z
LOCATION:Stadtbibliothek Wil 
URL:https://www.stadtwil.ch/event/tablet-hero-2026-04-25
END:VEVENT
END:VCALENDAR
