BEGIN:VCALENDAR
VERSION:2.0
PRODID:-//OneGov//onegov.event//
BEGIN:VEVENT
SUMMARY:Vernissage Vier Seiten Leben
DTSTART:20260424T170000Z
DTEND:20260424T190000Z
DTSTAMP:20260420T010227Z
UID:vernissage-vier-seiten-leben-2026-04-24@onegov.event
CATEGORIES:Literatur
DESCRIPTION:«Vier Seiten Leben. Der Fall Martha L.» von Dorothee Kohler\
 n\nBeim Durchstöbern des Familienerbes stösst Dorothee Kohler auf eine u
 nbekannte Tante und ihre dramatische Geschichte in psychiatrischen Anstalt
 en des frühen 20. Jahrhunderts. Anhand einer kargen Klinikakte will sie M
 arthas Fall nachvollziehen. Darin ist von einer «unfügsamen» Patientin 
 die Rede\, die sich wehrte. Es finden sich weitere Dokumente\, die fragwü
 rdige Behandlungsmethoden im frühen 20. Jahrhundert offenlegen\, besonder
 s im Umgang mit weiblichen Patientinnen.\n\nModeration: Ronja Stahl\n\nPr
 äsentiert von: Dorothee Kohler\, geboren und aufgewachsen in St. Gallen\,
  studierte Germanistik\, Anglistik und Philosophie in Zürich und Tübinge
 n. Nach ihrer Promotion unterrichtete sie Deutsch am Gymnasium. Sie veröf
 fentlichte literarische Kurztexte in «Entwürfe. Zeitschrift für Literat
 ur». Dorothee Kohler lebt in Zürich.
LAST-MODIFIED:20260420T010227Z
LOCATION:Orelll Füssli Wil\, Obere Bahnhofstrasse\, 9500\, Wil SG
URL:https://www.stadtwil.ch/event/vernissage-vier-seiten-leben-2026-04-24
END:VEVENT
END:VCALENDAR
