BEGIN:VCALENDAR
VERSION:2.0
PRODID:-//OneGov//onegov.event//
BEGIN:VEVENT
SUMMARY:Zona 84 (AR) & Tüchel (CH)
DTSTART:20260424T183000Z
DTEND:20260424T230000Z
DTSTAMP:20260209T020224Z
UID:zona-84-ar-tuechel-ch-2026-04-24@onegov.event
CATEGORIES:Musik
DESCRIPTION:Punkrock aus Argentinien und St.Gallen\n\nZona 84 wurden 1993 
 in Rosario (Santa Fe\, Argentinien) gegründet und zählen zu den prägend
 en Punk-Rock-Bands der Stadt. Musikalisch verwurzelt im klassischen Punk 
 à la The Clash\, Ramones oder Cock Sparrer\, gelten sie in der lokalen Sz
 ene als feste Referenz. Über die Jahre spielten sie mit zentralen Namen d
 es argentinischen Punk ebenso wie mit internationalen Legenden wie Buzzcoc
 ks\, Social Distortion\, NY Dolls\, Die Toten Hosen\, Pennywise oder CJ Ra
 mone. Zona 84 stehen für kompromisslosen DIY-Punk: seit fast 30 Jahren ak
 tiv\, sozialkritisch\, unabhängig und international vernetzt. Mit ihrem e
 igenen Label Despabila Records (seit 2009) und vollständigem Selbstmanage
 ment verkörpern sie konsequent die Do-It-Yourself- und Control-Total-Phil
 osophie – eine feste Grösse der argentinischen Punk-Szene.
GEO:47.46133;9.03278
LAST-MODIFIED:20260209T020224Z
LOCATION:Gare de Lion\, Silostrasse 10\, 9500\, Wil SG
URL:https://www.stadtwil.ch/event/zona-84-ar-tuechel-ch-2026-04-24
END:VEVENT
END:VCALENDAR
